BEGIN:VCALENDAR
VERSION:2.0
METHOD:PUBLISH
PRODID::-//Obvius//NONSGML ICal//DA
BEGIN:VEVENT
UID:609450@cfs.ku.dk
DESCRIPTION:Lecture by Louis Sass\, Graduate School of Applied and Clinica
 l Psychology\, Rutgers University\, USA.\n\n\nhttps://cfs.ku.dk/calendar-
 main/2011/document5/
SUMMARY:Louis Sass: "Delusions and Double Book-keeping: An Ontological Inv
 estigation"
LOCATION:CFS\, University of Copenhagen\, lecture room: 25.5.11
DTSTART:20110211T121500Z
DTSTAMP:20110211T121500Z
DTEND:20110211T140000Z
END:VEVENT
BEGIN:VEVENT
UID:599575@cfs.ku.dk
DESCRIPTION:Lecture by Michelle Montague\, Department of Philosophy\, Bris
 tol University\, UK\n\n\nhttps://cfs.ku.dk/calendar-main/2011/document3/
SUMMARY:Michelle Montague: "The phenomenology of conscious thought"
LOCATION:CFS\, University of Copenhagen\, lecture room 25-5-11\, Njalsgade
  140-142\, 5th floor.
DTSTART:20110310T131500Z
DTSTAMP:20110310T131500Z
DTEND:20110310T150000Z
END:VEVENT
BEGIN:VEVENT
UID:599574@cfs.ku.dk
DESCRIPTION:Lecture by Galen Strawson\, Department of Philosophy\, Univers
 ity of Reading\, UK\n\nhttps://cfs.ku.dk/calendar-main/2011/document2/
SUMMARY:Galen Strawson: "Cognitive phenomenology: real life"
LOCATION:University of Copenhagen\, Njalsgade 128\, Building 24\, lecture 
 room: 24.4.01.
ORGANIZER:Dan Zahavi\, Center for Subjectivity Research
DTSTART:20110330T121500Z
DTSTAMP:20110330T121500Z
DTEND:20110330T140000Z
END:VEVENT
BEGIN:VEVENT
UID:599581@cfs.ku.dk
DESCRIPTION:PhD workshop on the self. Contributors will include Galen Stra
 wson and Dan Zahavi \n\n\nhttps://cfs.ku.dk/calendar-main/2011/document4/
SUMMARY:Figuring the self: PhD Workshop
LOCATION:CFS\, University of Copenhagen\, lecture room 25-5-11\, Njalsgade
  140-142\, 5th floor.
DTSTART:20110407T080000Z
DTSTAMP:20110407T080000Z
DTEND:20110408T140000Z
END:VEVENT
BEGIN:VEVENT
UID:634827@cfs.ku.dk
DESCRIPTION:Lecture by Matthew Ratcliffe\,  Department of Philosophy\, Du
 rham University\, UK.\n\n\nhttps://cfs.ku.dk/calendar-main/2011/copenhage
 n_summer_school_2013/
SUMMARY:Matthew Ratcliffe: "Phenomenology as a form of empathy"
LOCATION:CFS\, University of Copenhagen\, lecture room 25-5-11\, Njalsgade
  140-142\, 5th floor.
DTSTART:20110504T081500Z
DTSTAMP:20110504T081500Z
DTEND:20110504T100000Z
END:VEVENT
BEGIN:VEVENT
UID:637301@cfs.ku.dk
DESCRIPTION:Public Defence of Andrea Raballo's PhD Thesis "Self-desorders 
 as Schizophrenia Spectrum Vulnerability Phenotypes". \n\n\nhttps://cfs.ku.
 dk/calendar-main/2011/andrea_raballo/
SUMMARY:Self-disorders as Schizophrenia Spectrum Vulnerability Phenotypes
CATEGORIES:ph.d.-forsvar
LOCATION:Hannover Auditoriet\, Panum Instituttet\, Blegdamsvej 3B\, 2200 C
 openhagen N
ORGANIZER:Center for Subjectivity Research 
DTSTART:20110504T120000Z
DTSTAMP:20110504T120000Z
END:VEVENT
BEGIN:VEVENT
UID:619148@cfs.ku.dk
DESCRIPTION:Lecture by Manidipa Sen\, Centre for Philosophy\, School of So
 cial Sciences\, J.N.U.\, New Delhi\, India.\n\nhttps://cfs.ku.dk/calendar-
 main/2011/document6/
SUMMARY:Manidipa Sen: "Layers of Self-Consciousness"
LOCATION:CFS\, University of Copenhagen\, lecture room 25-5-11\, Njalsgade
  140-142\, 5th floor.
ORGANIZER:Nivedita Gangopadhyay
DTSTART:20110511T111500Z
DTSTAMP:20110511T111500Z
DTEND:20110511T130000Z
END:VEVENT
BEGIN:VEVENT
UID:636036@cfs.ku.dk
DESCRIPTION:Lecture by Shaun Gallagher\, Professor of Philosophy and Cogni
 tive Sciences\, University of Central Florida\, USA \n\n\nhttps://cfs.ku.d
 k/calendar-main/2011/gallagher/
SUMMARY:Shaun Gallagher: "Heidegger and social cognition - a critique"
LOCATION:University of Copenhagen\, Njalsgade 128\, Aud. 23.0.49\, 2300 Co
 penhagen S
ORGANIZER:MEF & Center for Subjectivity Research 
DTSTART:20110519T111500Z
DTSTAMP:20110519T111500Z
DTEND:20110519T130000Z
END:VEVENT
BEGIN:VEVENT
UID:624524@cfs.ku.dk
DESCRIPTION:Lecture by Giovanna Colombetti\, Department of Sociology and P
 hilosophy\, University of Exeter\, UK \n\nhttps://cfs.ku.dk/calendar-main/
 2011/copenhagen_summer_school_2012/
SUMMARY:Giovanna Colombetti: "Varieties of bodily feelings in emotion expe
 rience"
LOCATION:CFS\, University of Copenhagen\, lecture room 25-5-11\, Njalsgade
  140-142\, 5th floor.
DTSTART:20110531T111500Z
DTSTAMP:20110531T111500Z
DTEND:20110531T130000Z
END:VEVENT
BEGIN:VEVENT
UID:658022@cfs.ku.dk
DESCRIPTION:Public Defence of Johan Gersel's PhD Thesis "Realism and Ratio
 nality". \n\n\nhttps://cfs.ku.dk/calendar-main/2011/realism_and_rationalit
 y/
SUMMARY:Realism and Rationality
CATEGORIES:ph.d.-forsvar
LOCATION:University of Copenhagen\, Faculty of Humanities\, Njalsgade 140\
 , Building 23\, Aud. 23.0.49\, 2300 København S
ORGANIZER:The Faculty of Humanities
DTSTART:20110705T110000Z
DTSTAMP:20110705T110000Z
END:VEVENT
BEGIN:VEVENT
UID:619155@cfs.ku.dk
DESCRIPTION:Speakers include:\n•Prof. Jocelyn Benoist (Sorbonne\, Paris
 ) •Prof. Shaun Gallagher (Memphis) •Prof. Camilla Serck-Hanssen (Oslo)
  •Prof. Dan Zahavi (Copenhagen) •Dr. Søren Overgaard (Copenhagen)\n\n
 https://cfs.ku.dk/calendar-main/2011/copenhagen_summer_school_2011/
SUMMARY:Copenhagen Summer School in Phenomenology and Philosophy of Mind
CATEGORIES:sommerskole
LOCATION:Copenhagen University\, Njalsgade 140-142\, Aud. 22.0.11\, 2300 C
 openhagen S
ORGANIZER:Center for Subjectivity Research
DTSTART:20110807T220000Z
DTSTAMP:20110807T220000Z
DTEND:20110811T220000Z
END:VEVENT
BEGIN:VEVENT
UID:593695@cfs.ku.dk
DESCRIPTION:Lecture by Dorthe Berntsen\, Center on Autobiographical Memory
  Research\, Department of Psychology\, Aarhus University\n\n\n\nhttps://
 cfs.ku.dk/calendar-main/2011/document/
SUMMARY:Dorthe Berntsen: "Always look on the bright side of life: Social a
 nd cultural constraints on autobiographical memory"
LOCATION:CFS\, University of Copenhagen\, lecture room 25-5-11\, Njalsgade
  140-142\, 5th floor. 
DTSTART:20110922T111500Z
DTSTAMP:20110922T111500Z
DTEND:20110922T130000Z
END:VEVENT
BEGIN:VEVENT
UID:680995@cfs.ku.dk
DESCRIPTION:Lecture by Sophie Loidolt\, Institut für Philosophie\, Univer
 sität Wien\, Austria \n\n\nhttps://cfs.ku.dk/calendar-main/2011/loidolt/
SUMMARY:Sophie Loidolt: "Experience\, Reasons and the Transcendental"
LOCATION:CFS\, University of Copenhagen\, lecture room 25-5-11\, Njalsgade
  140-142\, 5th floor.
DTSTART:20110928T111500Z
DTSTAMP:20110928T111500Z
DTEND:20110928T130000Z
END:VEVENT
BEGIN:VEVENT
UID:638494@cfs.ku.dk
DESCRIPTION:\nWorkshop on Social Cognition.\nParticipation by invitation
  only\nMore information to follow\n\n\n\nhttps://cfs.ku.dk/calendar-mai
 n/2011/social_cognition/
SUMMARY:Workshop: "Social Cognition"
LOCATION:CFS\, University of Copenhagen\, lecture room 25-5-11\, Njalsgade
  140-142\, 5th floor.
DTSTART:20111005T220000Z
DTSTAMP:20111005T220000Z
DTEND:20111006T220000Z
END:VEVENT
BEGIN:VEVENT
UID:679791@cfs.ku.dk
DESCRIPTION:Lecture by Philippe Rochat\, Department of Psychology\, Emory 
 University\, Atlanta\, USA. \n\n\nhttps://cfs.ku.dk/calendar-main/2011/cop
 enhagen_summer_school_2014/
SUMMARY:Philippe Rochat: "The Gaze of Others."
LOCATION:University of Copenhagen\, Karen Blixensvej 1\, Multisalen 21.0.5
 4\, 2300 Copenhagen S
ORGANIZER:Center for Subjectivity Research
DTSTART:20111010T121500Z
DTSTAMP:20111010T121500Z
DTEND:20111010T140000Z
END:VEVENT
BEGIN:VEVENT
UID:654917@cfs.ku.dk
DESCRIPTION:In conjunction with the 50th Annual Meeting of the Society for
  Phenomenology and Existential Philosophy (SPEP)\n\nSheraton Society Hil
 l\, Philadelphia\, USA. \nOrganized by Joel Krueger and Søren Overgaard (
 Center for Subjectivity Research) \n\n\n\nhttps://cfs.ku.dk/calendar-main
 /2011/meeting_of_the_international_association_for_phenomenology_and_the_c
 ognitive_sciences/
SUMMARY:Meeting of the International Association for Phenomenology and the
  Cognitive Sciences
CATEGORIES:konference
LOCATION:Shearton Society Hill\, Philadelphia\, USA 
ORGANIZER:Joel Krueger and Søren Overgaard\, Center for Subjectivity Rese
 arch
DTSTART:20111019T130000Z
DTSTAMP:20111019T130000Z
DTEND:20111019T160000Z
END:VEVENT
BEGIN:VEVENT
UID:671268@cfs.ku.dk
DESCRIPTION:Lecture by Eduard Marbach\, Department of Philosophy\, Univers
 ity of Bern\, Switzerland\n\n\nhttps://cfs.ku.dk/calendar-main/2011/marba
 ch/
SUMMARY:Eduard Marbach: "On Fictional Intentionality and Reference in a Ph
 enomenological Perspective"
LOCATION:CFS\, University of Copenhagen\, lecture room 25-5-11\, Njalsgade
  140-142\, 5th floor. 
DTSTART:20111025T121500Z
DTSTAMP:20111025T121500Z
DTEND:20111025T140000Z
END:VEVENT
BEGIN:VEVENT
UID:689696@cfs.ku.dk
DESCRIPTION:Lecture by Massimiliano Cappuccio\, Department of Philosophy\,
  UAE University\, Abu Dhabi\n\n\nhttps://cfs.ku.dk/calendar-main/2011/mas
 /
SUMMARY:Massimiliano Cappuccio: "Knowledge in the Hands: Direct-Matching H
 ypothesis vs. Teleological Stance Hypothesis."
CATEGORIES:foredrag
LOCATION:CFS\, University of Copenhagen\, lecture room 25-5-11\, Njalsgade
  140-142\, 5th floor. 
DTSTART:20111103T140000Z
DTSTAMP:20111103T140000Z
DTEND:20111103T150000Z
END:VEVENT
BEGIN:VEVENT
UID:692191@cfs.ku.dk
DESCRIPTION:Public Defence of Wenjing Cai's PhD Thesis. \n\n\nhttps://cfs.
 ku.dk/calendar-main/2011/reflection_as_a_form_of_human_life/
SUMMARY:Reflection as a Form of Human Life. Methodological Issues in Pheno
 menology
CATEGORIES:ph.d.-forsvar
LOCATION:Faculty of Humanities\, Njalsgade 120\, lecture room 27.0.17\, 23
 00 Copenhagen S
ORGANIZER:Faculty of Humanities\, University of Copenhagen 
DTSTART:20111116T120000Z
DTSTAMP:20111116T120000Z
DTEND:20111116T150000Z
END:VEVENT
BEGIN:VEVENT
UID:592002@cfs.ku.dk
DESCRIPTION:Conference "The Complex Self: Reflections on Interdisciplinari
 ty". \n\n\nConfirmed speakers include Daniel Stern\, Quassim Cassam\, V
 ittorio Gallese\, Robert Pippin\, Albert Newen\, Ingolf Dalferth\, Marya S
 chechtman\, Stan Klein\, Jennifer Radden\, John Barresi\, Shaun Gallagher\
 , Arne Grøn\, Josef Parnas & Dan Zahavi.\n\n\n\nhttps://cfs.ku.dk/calen
 dar-main/2011/the_complex_self/
SUMMARY:The Complex Self: Reflections on Interdisciplinarity
CATEGORIES:konference
LOCATION:University of Copenhagen\, Njalsgade 140-142\, Building 23\, Aud.
  23.0.50\, 2300 Copenhagen S
ORGANIZER:Center for Subjectivity Research
DTSTART:20111129T230000Z
DTSTAMP:20111129T230000Z
DTEND:20111201T230000Z
END:VEVENT
END:VCALENDAR
