BEGIN:VCALENDAR
VERSION:2.0
METHOD:PUBLISH
PRODID::-//Obvius//NONSGML ICal//DA
BEGIN:VEVENT
UID:712311@cfs.ku.dk
DESCRIPTION:Lecture by FrÃ©dÃ©rique de Vignemont\, Institut Jean Nicod\, P
 aris\, France.\n\n\nhttps://cfs.ku.dk/calendar-main/2012/vignemont/
SUMMARY:FrÃ©dÃ©rique de Vignemont: "Are we so egocentric after all?"
LOCATION:Center for Subjectivity Research\, Njalsgade 140-142\, 5. floor\,
  room 25.5.11\, 2300 Copenhagen S
ORGANIZER:Center for Subjectivity Research
DTSTART:20120201T121500Z
DTSTAMP:20120201T121500Z
DTEND:20120201T140000Z
END:VEVENT
BEGIN:VEVENT
UID:721958@cfs.ku.dk
DESCRIPTION:Public Defence of Mads Gram Henriksen's PhD Thesis "Understand
 ing Schizophrenia. Investigations in Phenomenological Psychopathology". \n
 \n\nhttps://cfs.ku.dk/calendar-main/2012/understanding/
SUMMARY:Understanding Schizophrenia. Investigations in Phenomenological Ps
 ychopathology
CATEGORIES:ph.d.-forsvar
LOCATION:University of Copenhagen\, Njalsgade 136\, Building 27\, Aud. 27.
 0.09\, 2300 Copenhagen S
ORGANIZER:University of Copenhagen\, Faculty of Health Sciences and Center
  for Subjectivity Research
DTSTART:20120213T090000Z
DTSTAMP:20120213T090000Z
DTEND:20120213T120000Z
END:VEVENT
BEGIN:VEVENT
UID:682970@cfs.ku.dk
DESCRIPTION:Lecture by Michael Wheeler\, University of Stirling\, Scotland
 \, UK. \n\n\nhttps://cfs.ku.dk/calendar-main/2012/michael_wheeler/
SUMMARY:Michael Wheeler: "Thrown Machines: in Defence of a Heideggerian Co
 gnitive Science"
CATEGORIES:forelÃ¦sning
LOCATION:University of Copenhagen\, Faculty of Humanities\, Njalsgade 140\
 , Aud. 23.4.39\, 2300 KÃ¸benhavn S
ORGANIZER:Center for Subjectivity Research
DTSTART:20120223T121500Z
DTSTAMP:20120223T121500Z
DTEND:20120223T140000Z
END:VEVENT
BEGIN:VEVENT
UID:710221@cfs.ku.dk
DESCRIPTION:Joint workshop of the Center for Subjectivity Research and the
  University of Tokyo Center for Philosophy (UTCP) Participation by invitat
 ion only.\n\nhttps://cfs.ku.dk/calendar-main/2012/japan/
SUMMARY:Workshop: "Mind\, Consciousness and Body."
CATEGORIES:Workshop
LOCATION:University of Copenhagen\, Faculty of Humanities\, Njalsgade 140-
 142\, Lecture room 25-5-11\, 2300 KÃ¸benhavn S
ORGANIZER:A Joint Workshop of the Center for Subjectivity Research (CFS) a
 nd the University of Tokyo Center for Philosophy (UTCP) 
DTSTART:20120309T080000Z
DTSTAMP:20120309T080000Z
DTEND:20120309T150000Z
END:VEVENT
BEGIN:VEVENT
UID:733722@cfs.ku.dk
DESCRIPTION:Public Defence of Gry Ardal Printzlau's PhD Thesis.\n\nhttps:/
 /cfs.ku.dk/calendar-main/2012/trust_and_ethical_selfhood/
SUMMARY:Trust and Ethical Selfhood
CATEGORIES:ph.d.-forsvar
LOCATION:Faculty of Theology\, Aud. 7\, KÃ¸bmagergade 44-46\, 1150 Copenha
 gen K.
ORGANIZER:Faculty of Theology\, University of Copenhagen 
DTSTART:20120330T111500Z
DTSTAMP:20120330T111500Z
END:VEVENT
BEGIN:VEVENT
UID:657860@cfs.ku.dk
DESCRIPTION:Workshop on empathy Participation is for center staff only \n\
 nhttps://cfs.ku.dk/calendar-main/2012/empathy/
SUMMARY:Workshop: "Empathy"
LOCATION:CFS\, University of Copenhagen\, lecture room 25-5-11\, Njalsgade
  140-142\, 5th floor.
ORGANIZER:CFS
DTSTART:20120417T220000Z
DTSTAMP:20120417T220000Z
DTEND:20120418T220000Z
END:VEVENT
BEGIN:VEVENT
UID:679852@cfs.ku.dk
DESCRIPTION:Lecture by LÃ¡szlÃ³ Tengelyi\, Philosophisches Seminar\, Bergi
 sche UniversitÃ¤t Wuppertal\, Germany.\n\nhttps://cfs.ku.dk/calendar-main/
 2012/dokument2/
SUMMARY:LÃ¡szlÃ³ Tengelyi: "Agonistic World Projects: Transcendentalism ve
 rsus Naturalism"
CATEGORIES:ForelÃ¦sning
LOCATION:CFS\, University of Copenhagen\, lecture room 25.5.11\, Njalsgade
  140-142\, 5th floor.
DTSTART:20120426T121500Z
DTSTAMP:20120426T121500Z
DTEND:20120426T140000Z
END:VEVENT
BEGIN:VEVENT
UID:740394@cfs.ku.dk
DESCRIPTION:\n\nhttps://cfs.ku.dk/calendar-main/2012/sartre/
SUMMARY:LÃ¡szlÃ³ Tengelyi: "On Merleau-Ponty's Debate with Sartre's Phenom
 enological Metaphysics" 
LOCATION:CFS\, University of Copenhagen\, lecture room 25-5-11\, Njalsgade
  140-142\, 5th floor.
DTSTART:20120427T090000Z
DTSTAMP:20120427T090000Z
DTEND:20120427T100000Z
END:VEVENT
BEGIN:VEVENT
UID:643242@cfs.ku.dk
DESCRIPTION:Lecture by Heidi Maibom\, Department of Philosophy\, Carleton 
 University\, Canada.The lecture is open to all\, including students. Welco
 me!\n\nhttps://cfs.ku.dk/calendar-main/2012/shame_and_order/
SUMMARY:Heidi Maibom: "Unimaginable!"
LOCATION:University of Copenhagen\, Njalsgade 140-142\, lecture room 25.5.
 11\, 2300 Copenhagen S
ORGANIZER:Center for Subjectivity Research
DTSTART:20120508T111500Z
DTSTAMP:20120508T111500Z
DTEND:20120508T130000Z
END:VEVENT
BEGIN:VEVENT
UID:724932@cfs.ku.dk
DESCRIPTION:Lecture by Vittorio Gallese\, Department of Neuroscience\, Uni
 versity of Parma\, Italy\n\nhttps://cfs.ku.dk/calendar-main/2012/gallese/
SUMMARY:Vittorio Gallese: "Embodied simulation: From neurons to bodily sel
 ves"
LOCATION:University of Copenhagen\, Njalsgade 140-142\, Aud. 22.0.11\, 230
 0 Copenhagen S
ORGANIZER:Center for Subjectivity Research
DTSTART:20120530T111500Z
DTSTAMP:20120530T111500Z
DTEND:20120530T130000Z
END:VEVENT
BEGIN:VEVENT
UID:746716@cfs.ku.dk
DESCRIPTION:Lecture by Louis Sass\, Graduate School of Applied and Profess
 ional Psychology\, Rutgers\, USA.More info to follow.\n\nhttps://cfs.ku.dk
 /calendar-main/2012/sass/
SUMMARY:Louis Sass: "Surface and Depth: On the Nature and Necessity of Phe
 nomenology"
LOCATION:CFS\, University of Copenhagen\, lecture room 25-5-11\, Njalsgade
  140-142\, 5th floor.
ORGANIZER:CFS
DTSTART:20120620T111500Z
DTSTAMP:20120620T111500Z
DTEND:20120620T130000Z
END:VEVENT
BEGIN:VEVENT
UID:703131@cfs.ku.dk
DESCRIPTION:Place: Copenhagen University\, Njalsgade 134\, Aud. 22.0.11\,Â
  2300 Copenhagen S.\n\nhttps://cfs.ku.dk/calendar-main/2012/summer_school_
 2012/
SUMMARY:Copenhagen Summer School in Phenomenology and Philosophy of Mind 2
 012
CATEGORIES:sommerskole
LOCATION:University of Copenhagen\, Faculty of Humanities\, Njalsgade 134\
 , Aud. 22.0.11\, 2300 Copenhagen S\, Denmark
ORGANIZER:Center for Subjectivity Research
DTSTART:20120805T220000Z
DTSTAMP:20120805T220000Z
DTEND:20120809T220000Z
END:VEVENT
BEGIN:VEVENT
UID:725402@cfs.ku.dk
DESCRIPTION:Lecture by Joel Smith\, School of Social Sciences\, University
  of Manchester\, UK.\n\nhttps://cfs.ku.dk/calendar-main/2012/smith/
SUMMARY:Joel Smith: "Visual presence and the look of happiness."
LOCATION:University of Copenhagen\, Njalsgade 140-142\, lecture room 25.5.
 11\, 2300 Copenhagen S
ORGANIZER:CFS
DTSTART:20120904T131500Z
DTSTAMP:20120904T131500Z
DTEND:20120904T150000Z
END:VEVENT
BEGIN:VEVENT
UID:770992@cfs.ku.dk
DESCRIPTION:Lecture by Jonathan Cole\, Consultant in Clinical Neurophysiol
 ogy\, Poole Hospital. Visiting Professor\, University of Bournemouth.\n\nh
 ttps://cfs.ku.dk/calendar-main/2012/cole/
SUMMARY:Jonathan Cole: "Cerebral palsy\; restrictions on intention and act
 ion\, language and thought"
LOCATION:Copenhagen University\, Faculty of Humanities\, Center for Subjec
 tivity Research\, Njalsgade 140-142\, 5. floor\, room 25.5.11\, 2300 Copen
 hagen S
ORGANIZER:Center for Subjectivity Research
DTSTART:20120913T081500Z
DTSTAMP:20120913T081500Z
DTEND:20120913T100000Z
END:VEVENT
BEGIN:VEVENT
UID:771602@cfs.ku.dk
DESCRIPTION:Lecture by Uriah Kriegel\, Department of Philosophy\, Universi
 ty of Arizona\, USA\n\nhttps://cfs.ku.dk/calendar-main/2012/uriah/
SUMMARY:Uriah Kriegel: "Beyond the Neural Correlates of Consciousness"
LOCATION:Copenhagen University\, Faculty of Humanities\, Njalsgade 128\, A
 ud. 23.0.49\, 2300 Copenhagen S
ORGANIZER:Center for Subjectivity Research
DTSTART:20120919T121500Z
DTSTAMP:20120919T121500Z
DTEND:20120919T140000Z
END:VEVENT
BEGIN:VEVENT
UID:763181@cfs.ku.dk
DESCRIPTION:To participate please contact Rasmus Thybo JensenSpace is limi
 ted so please sign up as soon as possible.\n\nhttps://cfs.ku.dk/calendar-m
 ain/2012/disjunctivism_in_action/
SUMMARY:Disjunctivism in Action - A Workshop
LOCATION:University of Copenhagen\, Faculty of Humanities\, Njalsgade 140-
 142\, 5th floor\, lecture room 25.5.11\, 2300 KÃ¸benhavn S
ORGANIZER:Center for Subjectivity Research
DTSTART:20120924T220000Z
DTSTAMP:20120924T220000Z
END:VEVENT
BEGIN:VEVENT
UID:775702@cfs.ku.dk
DESCRIPTION:Prior registration is not required.The conferenceÂ is free and
 Â open to all\, including students.Â Organizer: Rasmus Thybo Jensen\n\nhtt
 ps://cfs.ku.dk/calendar-main/2012/two_talks_on_perception/
SUMMARY:Two talks on Perception - A mini-workshop
LOCATION:University of Copenhagen\, Faculty of Humanities\, Njalsgade 140-
 142\, meeting room 25.5.11\, 2300 Copenhagen S\, Denmark
ORGANIZER:Center for Subjectivity Research
DTSTART:20120927T081500Z
DTSTAMP:20120927T081500Z
DTEND:20120927T103000Z
END:VEVENT
BEGIN:VEVENT
UID:676257@cfs.ku.dk
DESCRIPTION:Participants include Shaun Gallagher\, Karsten Stueber\, Shihu
 i Han\, Alessandro Duranti\, Jason Throop\, Claus Lamm\, Andreas Roepstorf
 f\, Tobias Schlicht\, Joel Krueger\, SÃ¸ren Overgaard\, and Dan Zahavi. Se
 e programme\n\nhttps://cfs.ku.dk/calendar-main/2012/dokument/
SUMMARY:Empathy in context
CATEGORIES:konference
LOCATION:University of Copenhagen\, Aud. 23.0.50\, Njalsgade 128\, 2300 Co
 penhagen S 
ORGANIZER:Center for Subjectivity Research
DTSTART:20121010T220000Z
DTSTAMP:20121010T220000Z
DTEND:20121011T220000Z
END:VEVENT
BEGIN:VEVENT
UID:754665@cfs.ku.dk
DESCRIPTION:Lecture by Ian Apperly\, Professor of Cognition and Developmen
 t\, University of Birmingham.\n\nhttps://cfs.ku.dk/calendar-main/2012/ian_
 apperly_/
SUMMARY:CFS Lecture by Ian Apperly: "When and how do we mindread?"
CATEGORIES:forelÃ¦sning
LOCATION:Center for Subjectivity Research\, Njalsgade 140-142\, 5. floor\,
  room 25.5.11\, 2300 Copenhagen S
ORGANIZER:SÃ¸ren Overgaard\, Center for Subjectivity Research
DTSTART:20121108T130000Z
DTSTAMP:20121108T130000Z
DTEND:20121108T150000Z
END:VEVENT
BEGIN:VEVENT
UID:756074@cfs.ku.dk
DESCRIPTION:Lecture by Udo Thiel\, Karl-Franzens UniversitÃ¤t Graz\, Austr
 ia\n\nhttps://cfs.ku.dk/calendar-main/2012/thiel/
SUMMARY:CFS Lecture by Udo Thiel: "Hume on Consciousness and the Self "
LOCATION:Copenhagen University\, Faculty of Humanities\, Njalsgade 128\, L
 ecture room 24.4.01\, 2300 Copenhagen S
ORGANIZER:Center for Subjectivity Research
DTSTART:20121112T141500Z
DTSTAMP:20121112T141500Z
DTEND:20121112T160000Z
END:VEVENT
BEGIN:VEVENT
UID:737472@cfs.ku.dk
DESCRIPTION:Lecture by Nicolas de Warren\, Katholieke Universiteit Leuven\
 , Belgium.\n\nhttps://cfs.ku.dk/calendar-main/2012/warren/
SUMMARY:CFS Lecture by Nicolas de Warren: "From the Illusion of Immanence 
 to the Immanence of Illusion"
LOCATION:Center for Subjectivity Research\, Njalsgade 140-142\, 5. floor\,
  room 25.5.11\, 2300 Copenhagen S
ORGANIZER:Center for Subjectivity Research
DTSTART:20121127T121500Z
DTSTAMP:20121127T121500Z
DTEND:20121127T140000Z
END:VEVENT
BEGIN:VEVENT
UID:742646@cfs.ku.dk
DESCRIPTION:Lecture by Ingolf Dalferth\, Institut fÃ¼r Hermeneutik und Rel
 igionsphilosophie\, UniversitÃ¤t ZÃ¼rich.\n\nhttps://cfs.ku.dk/calendar-ma
 in/2012/ingolf/
SUMMARY:CFS Lecture by Ingolf Dalferth: "Situated Selves in 'Webs of Inter
 locution': What Can We Learn from Grammar?"
LOCATION:Faculty of Theology\, KÃ¸bmagergade 46\, third floor\, Auditorium
  11\, 1150 Copenhagen K.
ORGANIZER:Faculty of Theology and Center for Subjectivity Research 
DTSTART:20121128T131500Z
DTSTAMP:20121128T131500Z
DTEND:20121128T150000Z
END:VEVENT
END:VCALENDAR
