BEGIN:VCALENDAR
VERSION:2.0
METHOD:PUBLISH
PRODID::-//Obvius//NONSGML ICal//DA
BEGIN:VEVENT
UID:854351@cfs.ku.dk
DESCRIPTION:Lecture by Anthony Steinbock\, Department of Philosophy\, Sout
 hern Illinois University\, Carbondale\, USA.\n\nhttps://cfs.ku.dk/calendar
 -main/2013/steinbock/
SUMMARY:CFS Lecture by Anthony Steinbock: "Pride as Self-Dissimulation and
  Self-Givenness through Humility"
LOCATION:Center for Subjectivity Research\, Njalsgade 140-142\, 5. floor\,
  room 25.5.11\, 2300 Copenhagen S
ORGANIZER:Center for Subjectivity Research
DTSTART:20130205T121500Z
DTSTAMP:20130205T121500Z
DTEND:20130205T140000Z
END:VEVENT
BEGIN:VEVENT
UID:758724@cfs.ku.dk
DESCRIPTION:Prior registration is not required.The conference is free and
  open to all\, including students. Welcome!\n\nhttps://cfs.ku.dk/calendar
 -main/2013/tesis/
SUMMARY:Conference: "Enactive and Phenomenological Approaches to Intersubj
 ectivity"
LOCATION:Copenhagen University\, Faculty of Humanities\, Njalsgade 134\, A
 ud. 22.0.11\, 2300 Copenhagen S
ORGANIZER:Center for Subjectivity Research
DTSTART:20130206T230000Z
DTSTAMP:20130206T230000Z
DTEND:20130207T230000Z
END:VEVENT
BEGIN:VEVENT
UID:825565@cfs.ku.dk
DESCRIPTION:Lecture by Smail Rapic\, Philosophisches Seminar\, Bergische U
 niversität Wuppertal\, Germany\n\nhttps://cfs.ku.dk/calendar-main/2013/ra
 pic/
SUMMARY:CFS Lecture by Smail Rapic: "Husserl's account of the temporal sel
 f-constitution of subjectivity on the background of German Idealism."
LOCATION:Center for Subjectivity Research\, Njalsgade 140-142\, 5. floor\,
  room 25.5.11\, 2300 Copenhagen S
ORGANIZER:Center for Subjectivity Research
DTSTART:20130409T121500Z
DTSTAMP:20130409T121500Z
DTEND:20130409T140000Z
END:VEVENT
BEGIN:VEVENT
UID:966497@cfs.ku.dk
DESCRIPTION:Lecture by Mattia Gallotti\, Jean Nicod Institute\, Paris\, Fr
 ance\n\nhttps://cfs.ku.dk/calendar-main/2013/gallotti/
SUMMARY:CFS Lecture by Mattia Gallotti: "Social interaction\, shared inten
 tionality and the we-mode"
CATEGORIES:foredrag
LOCATION:Center for Subjectivity Research\, Njalsgade 140-142\, 5. floor\,
  room 25.5.11\, 2300 Copenhagen S
ORGANIZER:Center for Subjectivity Research
DTSTART:20130410T111500Z
DTSTAMP:20130410T111500Z
DTEND:20130410T130000Z
END:VEVENT
BEGIN:VEVENT
UID:966273@cfs.ku.dk
DESCRIPTION:Lecture by Hong Yu Wong\, PhD\, Philosophy of Neuroscience\, C
 entre for Integrative Neuroscience\, Germany.\n\nhttps://cfs.ku.dk/calenda
 r-main/2013/cfs-lecture-by-hong-yu-wong/
SUMMARY:CFS Lecture by Hong Yu Wong: "Embodiment in Individual and Joint A
 ction"
LOCATION:Center for Subjectivity Research\, Njalsgade 140-142\, 5. floor\,
  room 25.5.11\, 2300 Copenhagen S
ORGANIZER:Center for Subjectivity Research
DTSTART:20130415T121500Z
DTSTAMP:20130415T121500Z
DTEND:20130415T140000Z
END:VEVENT
BEGIN:VEVENT
UID:982141@cfs.ku.dk
DESCRIPTION:Neuroscientific\, psychological\, and philosophical perspectiv
 es on the sense of agencyWorkshop: Tuesday 16 April\, 2013: 10:00am – 6:
 00pmVenue: Auditorium 3\, August Krogh Building\, Nørre Campus\, Universi
 ty of Copenhagen\n\nhttps://cfs.ku.dk/calendar-main/2013/workshop-measures
 -of-agency/
SUMMARY:CFS Workshop: "Measures of Agency"
CATEGORIES:workshop
LOCATION:Auditorium 3\, August Krogh Building\, Nørre Campus\, University
  of Copenhagen
ORGANIZER:FKK (grant to Phenomenal Consciousness and Cognitive Motor Contr
 ol)\, Center for Subjectivity Research (University of Copenhagen)\, and Ne
 ural Control of Movement (University of Copenhagen)
DTSTART:20130416T080000Z
DTSTAMP:20130416T080000Z
DTEND:20130416T160000Z
END:VEVENT
BEGIN:VEVENT
UID:758723@cfs.ku.dk
DESCRIPTION:Keynote speakers: Giovanna Colombetti\, Mirja Hartimo\, Shiger
 u Taguchi\, Nicolas de Warren and Jonathan Webber.\n\nhttps://cfs.ku.dk/ca
 lendar-main/2013/nosp/
SUMMARY:11th Annual Meeting of the Nordic Society for Phenomenology
LOCATION:University of Copenhagen\, Njalsgade 134\, Aud. 22.0.11\, 2300 Co
 penhagen S
ORGANIZER:Center for Subjectivity Research
DTSTART:20130417T220000Z
DTSTAMP:20130417T220000Z
DTEND:20130419T220000Z
END:VEVENT
BEGIN:VEVENT
UID:828647@cfs.ku.dk
DESCRIPTION:Participants: Giovanna Colombetti\, Dan Zahavi\, Kristian Mart
 iny\, Adam Farley\, Simon Høffding. Participation by invitation.\n\nhttps
 ://cfs.ku.dk/calendar-main/2013/workshop-on-self-intimation/
SUMMARY:CFS Workshop: "Self-Intimation"
CATEGORIES:workshop
LOCATION:Center for Subjectivity Research\, Njalsgade 140-142\, 5. floor\,
  room 25.5.11\, 2300 Copenhagen S
ORGANIZER:Center for Subjectivity Research
DTSTART:20130421T220000Z
DTSTAMP:20130421T220000Z
END:VEVENT
BEGIN:VEVENT
UID:971075@cfs.ku.dk
DESCRIPTION:Lecture by Siri Hustvedt. Prior registration not required.\n\n
 https://cfs.ku.dk/calendar-main/2013/hustvedt/
SUMMARY:CFS Lecture by Siri Hustvedt: "Borderlands: First\, Second\, and T
 hird Person Adventures in Crossing Disciplines."
CATEGORIES:forelæsning
LOCATION:Copenhagen University\, Faculty of Humanities\, Njalsgade 128\, A
 ud. 23.0.50\, 2300 Copenhagen S
ORGANIZER:Center for Subjectivity Research
DTSTART:20130503T121500Z
DTSTAMP:20130503T121500Z
DTEND:20130503T140000Z
END:VEVENT
BEGIN:VEVENT
UID:940585@cfs.ku.dk
DESCRIPTION:Lecture by Joseph Neisser\, Department of Philosophy\, Grinnel
 l College\, USA\n\nhttps://cfs.ku.dk/calendar-main/2013/neisser/
SUMMARY:CFS Lecture by Joseph Neisser: "How to put the 'neuro' in 'neuroph
 enomenology'"
LOCATION:Center for Subjectivity Research\, Njalsgade 140-142\, 5. floor\,
  room 25.5.11\, 2300 Copenhagen S
ORGANIZER:Center for Subjectivity Research
DTSTART:20130507T121500Z
DTSTAMP:20130507T121500Z
DTEND:20130507T140000Z
END:VEVENT
BEGIN:VEVENT
UID:823345@cfs.ku.dk
DESCRIPTION:Philosophical Issues in Psychiatry III: The Nature and Sources
  of Historical Change\n\nhttps://cfs.ku.dk/calendar-main/2013/philosophica
 l-issues-in-psychiatry-iii-the-nature-and-sources-of-historical-change/
SUMMARY:Philosophical Issues in Psychiatry III: The Nature and Sources of 
 Historical Change
LOCATION:University of Copenhagen\, Faculty of Health and Medical Sciences
 \, Haderup Auditorium\, Blegdamsvej 3B\, DK-2200 Copenhagen 
ORGANIZER:Faculty of Health and Medical Sciences and Center for Subjectivi
 ty Research
DTSTART:20130509T070000Z
DTSTAMP:20130509T070000Z
DTEND:20130511T140000Z
END:VEVENT
BEGIN:VEVENT
UID:808517@cfs.ku.dk
DESCRIPTION:Lecture by Jonardon Ganeri\, Department of Philosophy\, Univer
 sity of Sussex\, UK\n\nhttps://cfs.ku.dk/calendar-main/2013/ganeri/
SUMMARY:CFS Lecture by Jonardon Ganeri: "Self and Nonself in Biology and B
 uddhist Psychology"
LOCATION:Center for Subjectivity Research\, Njalsgade 140-142\, 5. floor\,
  room 25.5.11\, 2300 Copenhagen S
ORGANIZER:Center for Subjectivity Research
DTSTART:20130514T121500Z
DTSTAMP:20130514T121500Z
DTEND:20130514T140000Z
END:VEVENT
BEGIN:VEVENT
UID:1010093@cfs.ku.dk
DESCRIPTION:Workshop on the Second PersonPresentations by Adrian Haddock (
 University of Stirling) and Matthias Haase (University of Leipzig)\n\nhttp
 s://cfs.ku.dk/calendar-main/2013/glenda/
SUMMARY:CFS Workshop: The Second Person
CATEGORIES:workshop
LOCATION:Center for Subjectivity Research\, Njalsgade 140-142\, 5. floor\,
  room 25.5.11\, 2300 Copenhagen S
DTSTART:20130521T080000Z
DTSTAMP:20130521T080000Z
DTEND:20130521T110000Z
END:VEVENT
BEGIN:VEVENT
UID:756926@cfs.ku.dk
DESCRIPTION:Confirmed speakers include Sara Heinämaa\, James Jardine\, Je
 an-Francois Lavigne\, John Michael\, Dermot Moran\, Søren Overgaard\, He
 lena De Preester\, Matthew Ratcliffe\, Peter Rosan\, Matthias Schlossberge
 r\, Joona Taipale and Dan Zahavi.\n\nhttps://cfs.ku.dk/calendar-main/2013/
 document/
SUMMARY:Conference: "Phenomenology of Empathy"
LOCATION:Copenhagen University\, Faculty of Humanities\, Njalsgade 128\, A
 ud. 23.0.49\, 2300 Copenhagen S
ORGANIZER:Center for Subjectivity Research and Department of Media\, Cogni
 tion and Communication
DTSTART:20130528T220000Z
DTSTAMP:20130528T220000Z
DTEND:20130530T220000Z
END:VEVENT
BEGIN:VEVENT
UID:1096329@cfs.ku.dk
DESCRIPTION:NormCon Workshop\n\nhttps://cfs.ku.dk/calendar-main/2013/varie
 ties-of-normativity/
SUMMARY:Varieties of Normativity
CATEGORIES:workshop
LOCATION:Center for Subjectivity Research\, Njalsgade 140-142\, 5. floor\,
  room 25.5.11\, 2300 Copenhagen S
ORGANIZER:Center for Subjectivity Research
DTSTART:20130610T220000Z
DTSTAMP:20130610T220000Z
DTEND:20130611T220000Z
END:VEVENT
BEGIN:VEVENT
UID:852251@cfs.ku.dk
DESCRIPTION:The Summer School will take place August 12-16\, 2013.\n\nhttp
 s://cfs.ku.dk/calendar-main/2013/copenhagen-summer-school-2013/
SUMMARY:Copenhagen Summer School in Phenomenology and Philosophy of Mind 2
 013
CATEGORIES:sommerskole
LOCATION:University of Copenhagen\, Njalsgade 134\, Aud. 22.0.11\, 2300 Co
 penhagen S
ORGANIZER:Center for Subjectivity Research
DTSTART:20130811T220000Z
DTSTAMP:20130811T220000Z
DTEND:20130815T220000Z
END:VEVENT
BEGIN:VEVENT
UID:1071457@cfs.ku.dk
DESCRIPTION:Lecture by Stefano Micali\, Klinik für Allgemeine Psychiatrie
 \, Universität Heidelberg.\n\nhttps://cfs.ku.dk/calendar-main/2013/micali
 /
SUMMARY:CFS Lecture by Stefano Micali: "Subject of Anxiety. A phenomenolog
 ical Investigation"
CATEGORIES:foredrag
LOCATION:Center for Subjectivity Research\, Njalsgade 140-142\, 5. floor\,
  room 25.5.11\, 2300 Copenhagen S
ORGANIZER:Center for Subjectivity Research
DTSTART:20130917T121500Z
DTSTAMP:20130917T121500Z
DTEND:20130917T140000Z
END:VEVENT
BEGIN:VEVENT
UID:1188199@cfs.ku.dk
DESCRIPTION:Speakers include: Bill Brewer\, Hannah Ginsborg\, Heather Logu
 e\, John McDowell\, Alan Millar\, Susanna Siegel and Charles Travis.\n\nht
 tps://cfs.ku.dk/calendar-main/2013/experiential-reasons/
SUMMARY:Workshop: Experiential Reasons
CATEGORIES:workshop
LOCATION:KUA
ORGANIZER:Center for Subjectivity Research
DTSTART:20131028T230000Z
DTSTAMP:20131028T230000Z
DTEND:20131029T230000Z
END:VEVENT
BEGIN:VEVENT
UID:1229793@cfs.ku.dk
DESCRIPTION:In this series of public lectures a number of distinguished ph
 ilosophers will present their work on issues such as perceptual knowledge
 \, practical self-knowledge\, rule-following and logic.Speakers: Bill Bre
 wer\, Hannah Ginsborg\, Heather Logue\, John McDowell\, Alan Millar\, Susa
 nna Siegel\, Rowland Stout\, Charles Travis\n\nhttps://cfs.ku.dk/calendar-
 main/2013/reason-and-experience/
SUMMARY:Public Lecture Series: Reason and Experience
LOCATION:University of Copenhagen\, Faculty of Humanities\, Karen Blixens 
 vej 4\, Auditorium 23.0.50\, 2300 København S
ORGANIZER:Department of Media\, Cognition\, and Communication
DTSTART:20131031T090000Z
DTSTAMP:20131031T090000Z
DTEND:20131101T154500Z
END:VEVENT
BEGIN:VEVENT
UID:1188877@cfs.ku.dk
DESCRIPTION:Workshop devoted to the phenomenology of we\n\nhttps://cfs.ku.
 dk/calendar-main/2013/cfs-workshop-the-we-and-its-phenomenology/
SUMMARY:CFS Workshop: The we and its phenomenology
LOCATION:Center for Subjectivity Research\, KUA1\, Njalsgade 140-142\, 5. 
 floor\, room 25.5.11\, 2300 Copenhagen S
ORGANIZER:Center for Subjectivity Research
DTSTART:20131105T131500Z
DTSTAMP:20131105T131500Z
DTEND:20131105T160000Z
END:VEVENT
BEGIN:VEVENT
UID:1289599@cfs.ku.dk
DESCRIPTION:\n\nhttps://cfs.ku.dk/calendar-main/2013/clinical-psychiatry/
SUMMARY:Clinical psychiatry. The management of the acute patient
LOCATION:University of Copenhagen\, Aud. 23.0.50\, Njalsgade 128\, 2300 Co
 penhagen S 
ORGANIZER:Professor Josef Parnas\, University of Copenhagen and Region Hov
 edstadens Psykiatri
DTSTART:20131114T080000Z
DTSTAMP:20131114T080000Z
DTEND:20131114T150000Z
END:VEVENT
BEGIN:VEVENT
UID:1191303@cfs.ku.dk
DESCRIPTION:In recent years\, numerous versions of the so-called “direct
 -perception” thesis have been advanced. These accounts offer various dif
 ferent arguments in favor of the claim that we can acquire awareness and/o
 r knowledge of others’ mental states through perception. It is not clear
 \, however whether all of these approaches offer compatible arguments\, an
 d to what extent they are arguing for the same claim(s).\n\nhttps://cfs.ku
 .dk/calendar-main/2013/cfs-workshop-the-scope/
SUMMARY:Workshop and PhD course: The scope and limits of direct perception
 
LOCATION:Center for Subjectivity Research\, Njalsgade 140-142\, 5. floor\,
  room 25.5.11\, 2300 Copenhagen S
ORGANIZER:Center for Subjectivity Research
DTSTART:20131211T230000Z
DTSTAMP:20131211T230000Z
DTEND:20131212T230000Z
END:VEVENT
END:VCALENDAR
