BEGIN:VCALENDAR
VERSION:2.0
METHOD:PUBLISH
PRODID::-//Obvius//NONSGML ICal//DA
BEGIN:VEVENT
UID:1454533@cfs.ku.dk
DESCRIPTION:1st\, 2nd and 3rd person perspectives in clinical social psych
 ology\n\nhttps://cfs.ku.dk/calendar-main/2014/imc-and-cfs-joint-workshop/
SUMMARY:IMC and CFS Joint Workshop
LOCATION:Center for Subjectivity Research\, Njalsgade 140-142\, 2300 Copen
 hagen S
ORGANIZER:Center for Subjectivity Research
DTSTART:20140205T090000Z
DTSTAMP:20140205T090000Z
DTEND:20140205T163000Z
END:VEVENT
BEGIN:VEVENT
UID:1234417@cfs.ku.dk
DESCRIPTION:Speakers: Prof. Hans Bernhard Schmid and Dr. Luca Tummolini\n\
 nhttps://cfs.ku.dk/calendar-main/2014/cfs-workshop-collective-intentionali
 ty-its-features-and-pre-conditions/
SUMMARY:CFS Workshop: Collective Intentionality: Its Features and Pre-cond
 itions
CATEGORIES:workshop
LOCATION:Center for Subjectivity Research\, KUA1\, Njalsgade 140-142\, 5. 
 floor\, room TBA\, 2300 Copenhagen S
ORGANIZER:Alessandro Salice\, Center for Subjectivity Research
DTSTART:20140218T132000Z
DTSTAMP:20140218T132000Z
DTEND:20140218T160000Z
END:VEVENT
BEGIN:VEVENT
UID:1264591@cfs.ku.dk
DESCRIPTION:Lecture by Hannes Rakoczy\, Institute of Psychology\, Universi
 ty of Göttingen\, Germany.\n\nhttps://cfs.ku.dk/calendar-main/2014/hannes
 /
SUMMARY:CFS Lecture by Hannes Rakoczy: Representing regularities and rules
  - how human children and non-human primates carve up the world
LOCATION:Center for Subjectivity Research\, Njalsgade 140-142\, 5. floor\,
  room 25.5.11\, 2300 Copenhagen S
ORGANIZER:Center for Subjectivity Research
DTSTART:20140225T131500Z
DTSTAMP:20140225T131500Z
DTEND:20140225T150000Z
END:VEVENT
BEGIN:VEVENT
UID:1389679@cfs.ku.dk
DESCRIPTION:We are hosting an afternoon of interdisciplinary lectures and 
 talks – and afterwards we hope you will join us at our open house recept
 ion. All students and employees at the Faculty of Humanities are more than
  welcome. \n\nhttps://cfs.ku.dk/calendar-main/2014/open-house-at-center-f
 or-subjectivity-research/
SUMMARY:Open House at Center for Subjectivity Research - New perspectives 
 on you\, me and us 
CATEGORIES:foredrag
LOCATION:Faculty of Humanities\, Njalsgade 134\, Aud. 22.0.11 and Center f
 or Subjectivity Research\, Njalsgade 140\, 25.5.11.
ORGANIZER:Center for Subjectivity Research
DTSTART:20140226T130000Z
DTSTAMP:20140226T130000Z
DTEND:20140226T160000Z
END:VEVENT
BEGIN:VEVENT
UID:1450329@cfs.ku.dk
DESCRIPTION:The workshop aims at reinterrogating a notion which is unavoid
 ably at the core of any phenomenological investigation: subjectivity. This
  topic is not meant to constrain the interventions of the participants by 
 imposing a theme\, but rather to provide a point of reference from which t
 he discussions can start and to which they can return\, enriched by the co
 nsideration of the participants’ current research.\n\nhttps://cfs.ku.dk/
 calendar-main/2014/multicentered-phenomenology-workshop/
SUMMARY:Multicentered Phenomenology Workshop
LOCATION:Center for Subjectivity Research\, Njalsgade 140-142\, 2300 Copen
 hagen S
ORGANIZER:Center for Subjectivity Research
DTSTART:20140303T123000Z
DTSTAMP:20140303T123000Z
DTEND:20140304T153000Z
END:VEVENT
BEGIN:VEVENT
UID:1411733@cfs.ku.dk
DESCRIPTION:Lecture by Michael Silberstein\, Department of Philosophy\, El
 izabethtown College\, USA\n\nhttps://cfs.ku.dk/calendar-main/2014/silberst
 ein/
SUMMARY:CFS Lecture by Michael Silberstein: "Experience Unbound"
CATEGORIES:forelæsning
LOCATION:Center for Subjectivity Research\, Njalsgade 140-142\, 5. floor\,
  room 25.5.11\, 2300 Copenhagen S
DTSTART:20140306T131500Z
DTSTAMP:20140306T131500Z
DTEND:20140306T150000Z
END:VEVENT
BEGIN:VEVENT
UID:1407855@cfs.ku.dk
DESCRIPTION:Organised by the Marie Curie ITN programme TESIS.\nSpeakers i
 nclude Sara Heinämaa\, Josef Parnas and Dan Zahavi.\n\nhttps://cfs.ku.dk/
 calendar-main/2014/tesis-workshop/
SUMMARY:Workshop: Phenomenology of Intersubjectivity
LOCATION:Copenhagen University\, Faculty of Humanities\, Njalsgade 128\, A
 ud. 27.0.9\, 2300 Copenhagen S
ORGANIZER:Center for Subjectivity Research
DTSTART:20140312T230000Z
DTSTAMP:20140312T230000Z
DTEND:20140313T230000Z
END:VEVENT
BEGIN:VEVENT
UID:1280595@cfs.ku.dk
DESCRIPTION:Speaker at the workshop is Raul Hakli\, University of Aarhus.\
 n\nhttps://cfs.ku.dk/calendar-main/2014/cfs-workshop-collective-intentiona
 lity-and-the-we-game-theoretic-perspectives./
SUMMARY:CFS Workshop: Collective Intentionality and the We: Game-Theoretic
  Perspectives
CATEGORIES:workshop
LOCATION:Center for Subjectivity Research\, KUA1\, Njalsgade 140-142\, 5. 
 floor\, room 25.5.11\, 2300 Copenhagen S
ORGANIZER:Alessandro Salice\, Center for Subjectivity Research
DTSTART:20140318T133000Z
DTSTAMP:20140318T133000Z
DTEND:20140318T160000Z
END:VEVENT
BEGIN:VEVENT
UID:1346747@cfs.ku.dk
DESCRIPTION:Speakers: Francesca De Vecchi\, Università San Raffaele and J
 oel Krueger\, University of Exeter\n\nhttps://cfs.ku.dk/calendar-main/2014
 /forms-of-we-intentionality/
SUMMARY:CFS Workshop: Forms of We-Intentionality 
CATEGORIES:workshop
LOCATION:Center for Subjectivity Research\, Njalsgade 140-142\, 5. floor\,
  room 25.5.11\, 2300 Copenhagen S
ORGANIZER:Center for Subjectivity Research
DTSTART:20140506T122000Z
DTSTAMP:20140506T122000Z
DTEND:20140506T150000Z
END:VEVENT
BEGIN:VEVENT
UID:1486319@cfs.ku.dk
DESCRIPTION:CFS Lecture by Tetsuya Kono\, Department of Education\, Rikkyo
  University\, Tokyo\, Japan\n\nhttps://cfs.ku.dk/calendar-main/2014/kono/
SUMMARY:CFS Lecture by Tetsuya Kono: "Extended Mind and After: Socially ex
 tended mind and actor-network"
LOCATION:Center for Subjectivity Research\, Njalsgade 140-142\, 5. floor\,
  room 25.5.11\, 2300 Copenhagen S
DTSTART:20140513T121500Z
DTSTAMP:20140513T121500Z
DTEND:20140513T140000Z
END:VEVENT
BEGIN:VEVENT
UID:1478107@cfs.ku.dk
DESCRIPTION:Confirmed speakers: Adrian Alsmith\, Robert Briscoe\, Antje Ge
 ntsch\, Thor Grünbaum\, Matthew Longo and Frederique de Vignemont.\n\nhtt
 ps://cfs.ku.dk/calendar-main/2014/illusions-of-self-consciousness/
SUMMARY:Illusions of self-consciousness
CATEGORIES:workshop
LOCATION:Center for Subjectivity Research\, Njalsgade 140-142\, 2300 Copen
 hagen S
ORGANIZER:Adrian Alsmith
DTSTART:20140521T073000Z
DTSTAMP:20140521T073000Z
DTEND:20140521T151000Z
END:VEVENT
BEGIN:VEVENT
UID:1370559@cfs.ku.dk
DESCRIPTION:Lecture by Kenneth Liberman\, Department of Sociology\, Univer
 sity of Oregon\, Eugene\, USA\n\nhttps://cfs.ku.dk/calendar-main/2014/ken/
 
SUMMARY:CFS Lecture by Kenneth Liberman: "What can the human sciences cont
 ribute to phenomenology."
LOCATION:Center for Subjectivity Research\, Njalsgade 140-142\, 5. floor\,
  room 25.5.11\, 2300 Copenhagen S
DTSTART:20140526T121500Z
DTSTAMP:20140526T121500Z
DTEND:20140526T140000Z
END:VEVENT
BEGIN:VEVENT
UID:1431913@cfs.ku.dk
DESCRIPTION:Two talks by Sebastian Rödl\, Institut für Philosophie\, Uni
 versität Leipzig\, Germany\n\nhttps://cfs.ku.dk/calendar-main/2014/cfs-le
 cture-by-sebastian-rdl-intentional-transaction/
SUMMARY:CFS Workshop by Sebastian Rödl on Joint Action and the Second Per
 son
LOCATION:Center for Subjectivity Research\, KUA1\, Njalsgade 140-142\, 5. 
 floor\, room 25.5.11\, 2300 Copenhagen S 
ORGANIZER:Center for Subjectivity Research
DTSTART:20140527T111500Z
DTSTAMP:20140527T111500Z
DTEND:20140527T150000Z
END:VEVENT
BEGIN:VEVENT
UID:1333117@cfs.ku.dk
DESCRIPTION:The Summer School will take place 18-22 August\, 2014.\n\nhtt
 ps://cfs.ku.dk/calendar-main/2014/summer-school-2014/
SUMMARY:Copenhagen Summer School in Phenomenology and Philosophy of Mind 2
 014
LOCATION:University of Copenhagen\, Aud. 23.0.49\, Njalsgade 128\, 2300 Co
 penhagen S 
ORGANIZER:Center for Subjectivity Research
DTSTART:20140817T220000Z
DTSTAMP:20140817T220000Z
DTEND:20140821T220000Z
END:VEVENT
BEGIN:VEVENT
UID:1274381@cfs.ku.dk
DESCRIPTION:The event is open to all: everyone is welcome!\n\nhttps://cfs.
 ku.dk/calendar-main/2014/thinking-about-groups/
SUMMARY:Thinking (about) groups
LOCATION:Copenhagen University\, Faculty of Humanities\, Njalsgade 134\, A
 ud. 22.0.11\, 2300 Copenhagen S
ORGANIZER:Center for Subjectivity Research
DTSTART:20141007T220000Z
DTSTAMP:20141007T220000Z
DTEND:20141009T220000Z
END:VEVENT
BEGIN:VEVENT
UID:1227173@cfs.ku.dk
DESCRIPTION:Speakers include: Jagna Brudzińska\, Aikaterini Fotopoulou\,
  Gunnar Karlsson\, Joel Krueger\, Johannes Lehtonen\, Vasudevi Reddy\, Phi
 lippe Rochat\, Bent Rosenbaum\, Joona Taipale\, and Dan Zahavi.\n\nhttps:
 //cfs.ku.dk/calendar-main/2014/infancy-and-the-selfother-differentiation/
SUMMARY:Conference: Infancy and the self/other differentiation. Perspectiv
 es from phenomenology and psychoanalysis
CATEGORIES:konference
LOCATION:University of Copenhagen\, Njalsgade 134\, aud. 22.0.11\, 2300 Co
 penhagen S
ORGANIZER:Joona Taipale\, Center for Subjectivity Research
DTSTART:20141029T230000Z
DTSTAMP:20141029T230000Z
DTEND:20141030T230000Z
END:VEVENT
BEGIN:VEVENT
UID:1544513@cfs.ku.dk
DESCRIPTION:Speakers: Christian von Scheve and Mikko SalmelaThe event is 
 open to all: everyone is welcome!\n\nhttps://cfs.ku.dk/calendar-main/2014/
 weanditsemotions/
SUMMARY:CFS Workshop: The We and its Emotions
LOCATION:Copenhagen University\, Faculty of Humanities\, Njalsgade 140-142
 \, room 25.5.11\, 2300 Copenhagen S
ORGANIZER:Alessandro Salice\, Center for Subjectivity Research
DTSTART:20141112T131500Z
DTSTAMP:20141112T131500Z
DTEND:20141112T160000Z
END:VEVENT
BEGIN:VEVENT
UID:1626965@cfs.ku.dk
DESCRIPTION:The event is open to all: everyone is welcome!\n\nhttps://cfs.
 ku.dk/calendar-main/2014/cfs-lecture-what-is-the-person-lessons-from-the-p
 henomenological-approach/
SUMMARY:CFS Lecture by Dermot Moran: What is the Person? Lessons from the 
 Phenomenological Approach
CATEGORIES:foredrag
LOCATION:Center for Subjectivity Research\, Njalsgade 140-142\, 25.5.11\, 
 2300 Copenhagen S
ORGANIZER:Dan Zahavi
DTSTART:20141114T091500Z
DTSTAMP:20141114T091500Z
DTEND:20141114T110000Z
END:VEVENT
BEGIN:VEVENT
UID:1637859@cfs.ku.dk
DESCRIPTION:Zhida Luo defends his PhD thesis\n\nhttps://cfs.ku.dk/calendar
 -main/2014/husserl-and-the-problem-of-empathy/
SUMMARY:Husserl and the Problem of Empathy
CATEGORIES:ph.d.-forsvar
LOCATION:KUA1\, 21.0.54 ("Multisalen")
ORGANIZER:Faculty of Humanities
DTSTART:20141114T120000Z
DTSTAMP:20141114T120000Z
END:VEVENT
BEGIN:VEVENT
UID:1634605@cfs.ku.dk
DESCRIPTION:Speakers:  R. Peter Hobson and Jessica Hobson. \n\nhttps://c
 fs.ku.dk/calendar-main/2014/cfs-workshop/
SUMMARY:CFS Workshop: The structure of self-other relations and shared exp
 erience
CATEGORIES:workshop
LOCATION:Copenhagen University\, Faculty of Humanities\, Njalsgade 140-142
 \, room 25.5.11\, 2300 Copenhagen S
ORGANIZER:CFS
DTSTART:20141127T121500Z
DTSTAMP:20141127T121500Z
DTEND:20141127T150000Z
END:VEVENT
BEGIN:VEVENT
UID:1627355@cfs.ku.dk
DESCRIPTION:Lecture by Don Kuiken\, University of Alberta\, CA.\n\nhttps:/
 /cfs.ku.dk/calendar-main/2014/cfs-lecture-by-don-kuiken-university-of-albe
 rta/
SUMMARY:CFS lecture by Don Kuiken: Numerically Aided Phenomenology: Balanc
 ing Empirical Rigor with Sensitivity to Expressive Language
LOCATION:Copenhagen University\, Faculty of Humanities\, Njalsgade 140-142
 \, room 25.5.11\, 2300 Copenhagen S
ORGANIZER:Dan Zahavi
DTSTART:20141201T090000Z
DTSTAMP:20141201T090000Z
DTEND:20141201T110000Z
END:VEVENT
BEGIN:VEVENT
UID:1648347@cfs.ku.dk
DESCRIPTION:Participation is only by invitation.\n\nhttps://cfs.ku.dk/cale
 ndar-main/2014/aarsseminar-selvfremmedgoerelse-og-selvforstaaelse/
SUMMARY:Årsseminar: Selvfremmedgørelse og selvforståelse
LOCATION:Center for Subjectivity Research\, Njalsgade 140-142\, 25.5.11\, 
 2300 Copenhagen S
ORGANIZER:Gry Ardal Printzlau
DTSTART:20141204T090000Z
DTSTAMP:20141204T090000Z
DTEND:20141204T230000Z
END:VEVENT
BEGIN:VEVENT
UID:1602303@cfs.ku.dk
DESCRIPTION:Speaker at the workshop is Malinda Carpenter. The event is fre
 e and open to all: everyone is welcome!\n\n\nhttps://cfs.ku.dk/calendar-m
 ain/2014/cfs-workshop-from-shared-experiences-to-shared-identities-in-infa
 ncy-and-early-childhood/
SUMMARY:CFS Workshop: From shared experiences to shared identities in infa
 ncy and early childhood
LOCATION:Center for Subjectivity Research\, Njalsgade 140-142\, 25.5.11\, 
 2300 Copenhagen S
ORGANIZER:Alessandro Salice
DTSTART:20141209T131500Z
DTSTAMP:20141209T131500Z
DTEND:20141209T150000Z
END:VEVENT
END:VCALENDAR
