BEGIN:VCALENDAR
VERSION:2.0
METHOD:PUBLISH
PRODID::-//Obvius//NONSGML ICal//DA
BEGIN:VEVENT
UID:2345000@cfs.ku.dk
DESCRIPTION:James Jardine defends his PhD thesis.\n\nhttps://cfs.ku.dk/cal
 endar-main/2017/empathy-embodiment-and-the-person/
SUMMARY:Empathy\, Embodiment\, and the Person
CATEGORIES:ph.d.-forsvar
LOCATION:KUA1\, 23.0.49
ORGANIZER:Faculty of Humanities
DTSTART:20170127T120000Z
DTSTAMP:20170127T120000Z
END:VEVENT
BEGIN:VEVENT
UID:2257658@cfs.ku.dk
DESCRIPTION:Lecture by Julia Jansen\, University of Leuven.\n\nhttps://cfs
 .ku.dk/calendar-main/2017/cfs-lecture-in-phenomenology-julia-jansen/
SUMMARY:CFS Lecture in Phenomenology by Julia Jansen
CATEGORIES:foredrag
LOCATION:University of Copenhagen\, Faculty of Humanities\, Karen Blixens 
 Plads 8\, lecture room 15A.0.13\, Copenhagen
ORGANIZER:Dan Zahavi\, Center for Subjectivity Research 
DTSTART:20170201T141500Z
DTSTAMP:20170201T141500Z
DTEND:20170201T160000Z
END:VEVENT
BEGIN:VEVENT
UID:2393642@cfs.ku.dk
DESCRIPTION:CFS Lecture by Owen Flanagan\, James B. Duke Professor of Phil
 osophy\, Center for Comparative Philosophy\, Duke University\, USA\n\nhttp
 s://cfs.ku.dk/calendar-main/2017/flanagan/
SUMMARY:Never in Anger
CATEGORIES:foredrag
LOCATION:University of Copenhagen\, Faculty of Humanities\, Karen Blixens 
 Plads 8\, meeting room 16.1.16\, Copenhagen 
ORGANIZER:Center for Subjectivity Research / Dan Zahavi
DTSTART:20170303T131500Z
DTSTAMP:20170303T131500Z
DTEND:20170303T150000Z
END:VEVENT
BEGIN:VEVENT
UID:2363129@cfs.ku.dk
DESCRIPTION:Phenomenology workshop with lectures by Dorothée Legrand\, Ni
 colas de Warren\, and Dan Zahavi. The workshop is free and open to all.\n\
 nhttps://cfs.ku.dk/calendar-main/2017/phenomenology-workshop/
SUMMARY:Phenomenology Workshop
CATEGORIES:workshop
LOCATION:University of Copenhagen\, South Campus\, Njalsgade 136\, Lecture
  room 27.0.17 Copenhagen 
ORGANIZER:Center for Subjectivity Research / Dan Zahavi
DTSTART:20170307T131500Z
DTSTAMP:20170307T131500Z
DTEND:20170307T160000Z
END:VEVENT
BEGIN:VEVENT
UID:2363123@cfs.ku.dk
DESCRIPTION:Annual meeting of the Center for Subjectivity Research\, Husse
 rl Archives in Paris and Husserl Archives in Leuven. Participation by invi
 tation only.\n\nhttps://cfs.ku.dk/calendar-main/2017/center-workshop/
SUMMARY:Copenhagen-Paris-Leuven Workshop
LOCATION:University of Copenhagen\, South Campus\, Njalsgade 136\, Buildin
 g 27\, room 27.0.49
ORGANIZER:Center for Subjectivity Research | Dan Zahavi
DTSTART:20170308T083000Z
DTSTAMP:20170308T083000Z
DTEND:20170309T110000Z
END:VEVENT
BEGIN:VEVENT
UID:2390147@cfs.ku.dk
DESCRIPTION:CFS Lecture by Roy Tzohar\, Department of East Asian Studies\,
  Tel Aviv University\, Israel\n\nhttps://cfs.ku.dk/calendar-main/2017/tzoh
 ar/
SUMMARY:A Buddhist Philosophical Approach to Intersubjectivity
LOCATION:University of Copenhagen\, South Campus\, Karen Blixens Plads 8\,
  meeting room 16.1.16\, Copenhagen
ORGANIZER:Center for Subjectivity Research / Dan Zahavi
DTSTART:20170310T121500Z
DTSTAMP:20170310T121500Z
DTEND:20170310T140000Z
END:VEVENT
BEGIN:VEVENT
UID:2296031@cfs.ku.dk
DESCRIPTION:Keynote Speakers: Cristina Becchio (Psychology\, University of
  Turin)\, Søren Overgaard (Philosophy\, CFS Copenhagen) and Dan Zahavi (
 Philosophy\, CFS Copenhagen). Participation by invitation only.\n\n\nhttp
 s://cfs.ku.dk/calendar-main/2017/cfs-spring-school-empathy-direct-percepti
 on-and-other-minds/
SUMMARY:CFS Spring School: "Empathy\, Direct Perception and Other Minds"
CATEGORIES:seminar
LOCATION:University of Copenhagen\, Faculty of Humanities\, Njalsgade 136\
 , Building 27\, lecture room 27.0.09
ORGANIZER:Center for Subjectivity Research
DTSTART:20170328T220000Z
DTSTAMP:20170328T220000Z
DTEND:20170330T220000Z
END:VEVENT
BEGIN:VEVENT
UID:2429111@cfs.ku.dk
DESCRIPTION:CFS Workshop with confirmed speakers: Henning Nörenberg (Rost
 ock/Copenhagen)\, Jan Slaby (Berlin)\, Thomas Szanto (Copenhagen) and Ger
 hard Thonhauser (Vienna). \n\nhttps://cfs.ku.dk/calendar-main/2017/cfs-wo
 rkshop-affective-spaces-i/
SUMMARY:Affective Spaces I
CATEGORIES:workshop
LOCATION:University of Copenhagen\, South Campus\, Njalsgade 136\, Lecture
  room 27.0.49 Copenhagen 
ORGANIZER:Center for Subjectivity Research / Henning Nörenberg
DTSTART:20170405T110000Z
DTSTAMP:20170405T110000Z
DTEND:20170405T153000Z
END:VEVENT
BEGIN:VEVENT
UID:2288684@cfs.ku.dk
DESCRIPTION:CFS Lecture by Thomas Baldwin\, York University\, UK.\n\nhttps
 ://cfs.ku.dk/calendar-main/2017/cfs-lecture-in-phenomenology-by-thomas-bal
 dwin-merleau-pontys-tacit-cogito/
SUMMARY:Merleau-Ponty's Tacit Cogito
CATEGORIES:foredrag
LOCATION:University of Copenhagen\, Karen Blixens Plads 8\, South Campus\,
  room 15A-0-13
ORGANIZER:Center for Subjectivity Research / Dan Zahavi 
DTSTART:20170420T110000Z
DTSTAMP:20170420T110000Z
DTEND:20170420T130000Z
END:VEVENT
BEGIN:VEVENT
UID:2164546@cfs.ku.dk
DESCRIPTION:CFS Workshop. Confirmed speakers: Adrian Alsmith\, Michael E. 
 Bratman\, Stephen Butterfill\, Ezio Di Nucci\, Thor Grünbaum\, Lilian 
 O'Brien\, Thomas Smith\, and Johanna Thoma.\n\nhttps://cfs.ku.dk/calendar
 -main/2017/cfs-workshop-shared/
SUMMARY:Shared and Temporally Extended Agency 
CATEGORIES:workshop
LOCATION:University of Copenhagen\, South Campus\, Njalsgade 136\, Buildin
 g 27\, room 27.0.09 
ORGANIZER:Center for Subjectivity Research / Olle Blomberg
DTSTART:20170427T220000Z
DTSTAMP:20170427T220000Z
DTEND:20170428T220000Z
END:VEVENT
BEGIN:VEVENT
UID:2429990@cfs.ku.dk
DESCRIPTION:CFS Lecture by Ram-Prasad Chakravarthi\, Department of Politic
 s\, Philosophy and Religion\, Lancaster University\, UK.\n\nhttps://cfs.ku
 .dk/calendar-main/2017/cfs-lecture-by-ram-prasad-chakravarthi/
SUMMARY:Two Conceptions of Perturbed Subjectivity from Classical Indian Me
 dicine
CATEGORIES:forelæsning
LOCATION:South Campus\, room 16-1-16
ORGANIZER:Center for Subjectivity Research / Dan Zahavi
DTSTART:20170509T121500Z
DTSTAMP:20170509T121500Z
DTEND:20170509T140000Z
END:VEVENT
BEGIN:VEVENT
UID:2306654@cfs.ku.dk
DESCRIPTION:CFS Conference with confirmed speakers: Alex Gillespie\, Ernes
 tine Gordijn\, Douglas Hollan\, Nils Holtug\, Alba Montes Sánchez\, Harr
 iet Over\, Olli Pyyhtinen\, Philippe Rochat\, Thomas Szanto and Kirsten Th
 isted.\n\nhttps://cfs.ku.dk/calendar-main/2017/shared-cultural-context-and
 -interpersonal-understanding/
SUMMARY:Shared Cultural Context and Interpersonal Understanding 
LOCATION:South Campus\, auditorium 22.0.11 - University of Copenhagen\, Nj
 alsgade 134 (entrance from Emil Holms Kanal 2)
ORGANIZER:Center for Subjectivity Research / Dan Zahavi and Felipe León
DTSTART:20170517T220000Z
DTSTAMP:20170517T220000Z
DTEND:20170518T220000Z
END:VEVENT
BEGIN:VEVENT
UID:2542682@cfs.ku.dk
DESCRIPTION:CFS Workshop on aesthetics and phenomenological psychology.\n\
 nhttps://cfs.ku.dk/calendar-main/2017/phenomenological-psychology/
SUMMARY:Aesthetics and Phenomenological Psychology
LOCATION:South Campus\, room 16-1-16
ORGANIZER:Department of Media\, Cognition and Communication / Center for S
 ubjectivity Research
DTSTART:20170530T111500Z
DTSTAMP:20170530T111500Z
DTEND:20170530T140000Z
END:VEVENT
BEGIN:VEVENT
UID:2429201@cfs.ku.dk
DESCRIPTION:CFS Workshop. Confirmed speakers: Mikkel Bille (Roskilde)\, Ch
 ristian Borch (Copenhagen)\, Tonino Griffero (Rome)\, and Lydia Jørgense
 n (Copenhagen).\n\nhttps://cfs.ku.dk/calendar-main/2017/cfs-workshop-affec
 tive-spaces-ii/
SUMMARY:Affective Spaces II
CATEGORIES:workshop
LOCATION:South Campus\, auditorium 22.1.47
ORGANIZER:Center for Subjectivity Research
DTSTART:20170531T110000Z
DTSTAMP:20170531T110000Z
DTEND:20170531T132000Z
END:VEVENT
BEGIN:VEVENT
UID:2164564@cfs.ku.dk
DESCRIPTION:CFS Workshop. Speakers and artists included: Stefan Pagels And
 ersen\, Olle Blomberg\, Ingar Brinck\, Tom Cochrane\, Simon Høffding\,
  Vida Midgelow\, Barbara Montero\, Torben Snekkestad\,  John Sutton\,
  Susanne Ravn and Rasmus Ölme.\n\nhttps://cfs.ku.dk/calendar-main/2017/
 cfs-workshop-improvisation-in-arts/
SUMMARY:Improvisation in Arts
CATEGORIES:workshop
LOCATION:University of Copenhagen\, South Campus\, Karen Blixens Plads 8\,
  Festsalen\, building 11\, ground floor and lecture room 27.0.09
ORGANIZER:Center for Subjectivity Research / Olle Blomberg\, Simon Høffdi
 ng og Susanne Ravn
DTSTART:20170611T220000Z
DTSTAMP:20170611T220000Z
DTEND:20170612T220000Z
END:VEVENT
BEGIN:VEVENT
UID:2318579@cfs.ku.dk
DESCRIPTION:Confirmed speakers: Rudolf Bernet (University of Leuven)\, Dav
 id Cerbone (West Virginia University)\, Hanne Jacobs (Loyola University Ch
 icago)\, Søren Overgaard (University of Copenhagen) and Dan Zahavi (Univ
 ersity of Copenhagen)\n\nhttps://cfs.ku.dk/summer-school-2017/
SUMMARY:Copenhagen Summer School in Phenomenology and Philosophy of Mind
LOCATION:University of Copenhagen\, Njalsgade 134 (entrance from Emil Holm
 s Kanal 2)\, Aud. 22.0.11\, Copenhagen
ORGANIZER:Center for Subjectivity Research 
DTSTART:20170813T220000Z
DTSTAMP:20170813T220000Z
DTEND:20170817T220000Z
END:VEVENT
BEGIN:VEVENT
UID:2549609@cfs.ku.dk
DESCRIPTION:CFS Lecture by Chad Kidd\, Assistant Professor of Philosophy\,
  The City College of New York (CUNY).\n\nhttps://cfs.ku.dk/calendar-main/2
 017/cfs-lecture-by-chad-kidd-re-examining-husserls-non-conceptualism-in-th
 e-logical-investigations./
SUMMARY:Re-examining Husserl's Non-Conceptualism in the Logical Investigat
 ions
CATEGORIES:forelæsning
LOCATION:South Campus\, lecture room 16-1-16
ORGANIZER:Center for Subjectivity Research
DTSTART:20170822T121500Z
DTSTAMP:20170822T121500Z
DTEND:20170822T140000Z
END:VEVENT
BEGIN:VEVENT
UID:2162662@cfs.ku.dk
DESCRIPTION:CFS Conference with confirmed speakers including Stephen Darwa
 ll\, Jean Decety\, John Drummond\, Natasha Gill\, James Jardine\, Joel Kr
 ueger\, Victoria McGeer\, Philip Pettit\, Jason Throop and Dan Zahavi.\n\n
 https://cfs.ku.dk/calendar-main/2017/empathy-recognition-morality/
SUMMARY:Empathy\, Recognition\, Morality
CATEGORIES:konference
LOCATION:South Campus\, Njalsgade 134\, auditorium 23.0.50
ORGANIZER:Center for Subjectivity Research / Dan Zahavi
DTSTART:20170920T220000Z
DTSTAMP:20170920T220000Z
DTEND:20170921T220000Z
END:VEVENT
BEGIN:VEVENT
UID:2645666@cfs.ku.dk
DESCRIPTION:CFS Lecture by Joel Krueger\, Senior Lecturer in Philosophy\, 
 University of Exeter\, UK.\n\nhttps://cfs.ku.dk/calendar-main/2017/krueger
 /
SUMMARY:CANCELLED Externalising Psychopathology
CATEGORIES:forelæsning
LOCATION:South Campus\, lecture room 16-1-16
ORGANIZER:Center for Subjectivity Research 
DTSTART:20170926T121500Z
DTSTAMP:20170926T121500Z
DTEND:20170926T140000Z
END:VEVENT
BEGIN:VEVENT
UID:2688692@cfs.ku.dk
DESCRIPTION:CFS Lecture by Galen Strawson\, Professor at the Department of
  Philosophy\, University of Texas at Austin and Affiliated Professor in P
 hilosophy at the Department of Media\, Cognition and Communications\, Univ
 ersity of Copenhagen.\n\nhttps://cfs.ku.dk/calendar-main/2017/galen-straws
 on-i/
SUMMARY:The Mary-Go-Round
CATEGORIES:forelæsning
LOCATION:South Campus\, room 5B.1.08
ORGANIZER:Center for Subjectivity Research (CFS)
DTSTART:20171103T131500Z
DTSTAMP:20171103T131500Z
DTEND:20171103T150000Z
END:VEVENT
BEGIN:VEVENT
UID:2688707@cfs.ku.dk
DESCRIPTION:CFS Lecture by Galen Strawson\, Professor at the Department of
  Philosophy\, University of Texas at Austin and Affiliated Professor in P
 hilosophy at the Department of Media\, Cognition and Communications\, Univ
 ersity of Copenhagen.\n\nhttps://cfs.ku.dk/calendar-main/2017/galen-straws
 on-ii/
SUMMARY:Locke on personal identity
CATEGORIES:forelæsning
LOCATION:South Campus\, room 5B-1-08
ORGANIZER:Center for Subjectivity Research (CFS)
DTSTART:20171106T131500Z
DTSTAMP:20171106T131500Z
DTEND:20171106T150000Z
END:VEVENT
END:VCALENDAR
