BEGIN:VCALENDAR
VERSION:2.0
METHOD:PUBLISH
PRODID::-//Obvius//NONSGML ICal//DA
BEGIN:VEVENT
UID:2656601@cfs.ku.dk
DESCRIPTION:The Copenhagen Summer School in Phenomenology and Philosophy o
 f Mind is an annual event organized by the Center of Subjectivity Research
  and co-funded by the PhD School at the Faculty of Humanities\, University
  of Copenhagen.\n\n\nhttps://cfs.ku.dk/summer-school-2018/
SUMMARY:Copenhagen Summer School in Phenomenology and Philosophy of Mind
LOCATION:University of Copenhagen\, Njalsgade 134 (entrance from Emil Holm
 s Kanal 2)\, Aud. 22.0.11\, Copenhagen
ORGANIZER:Center for Subjectivity Research 
DTSTART:20180812T220000Z
DTSTAMP:20180812T220000Z
DTEND:20180816T220000Z
END:VEVENT
END:VCALENDAR
