BEGIN:VCALENDAR
VERSION:2.0
METHOD:PUBLISH
PRODID::-//Obvius//NONSGML ICal//DA
BEGIN:VEVENT
UID:3707386@cfs.ku.dk
DESCRIPTION:Course on key concepts in phenomenology and on the question of
  how they might be of use to other disciplines than philosophy.\n\nhttps:/
 /cfs.ku.dk/calendar-main/2020/pure-and-applied-phenomenology/
SUMMARY:PhD course: Pure and Applied Phenomenology
CATEGORIES:Seminar
LOCATION:Karen Blixens Plads 8\, DK-2300 Copenhagen S\, room: TBA
ORGANIZER:PhD School at the Faculty of Humanities at University of Copenha
 gen
DTSTART:20201207T080000Z
DTSTAMP:20201207T080000Z
DTEND:20201207T150000Z
END:VEVENT
END:VCALENDAR
